Package: tigre Version: 1.46.0 Command: /Library/Frameworks/R.framework/Versions/Current/Resources/bin/R CMD build --keep-empty-dirs --no-resave-data tigre StartedAt: 2021-10-14 15:20:06 -0400 (Thu, 14 Oct 2021) EndedAt: 2021-10-14 15:22:58 -0400 (Thu, 14 Oct 2021) EllapsedTime: 171.7 seconds RetCode: 0 Status: OK PackageFile: tigre_1.46.0.tar.gz PackageFileSize: 309.3 KiB