git_url: https://git.bioconductor.org/packages/tigre git_branch: RELEASE_3_13 git_last_commit: 95c5a86 git_last_commit_date: 2021-05-19 11:45:13 -0400 (Wed, 19 May 2021) Package: tigre Version: 1.46.0 Maintainer: Antti Honkela MaintainerEmail: antti.honkela at helsinki.fi