Package: tidybulk Version: 1.4.0 Command: /home/biocbuild/bbs-3.13-bioc/R/bin/R CMD INSTALL tidybulk StartedAt: 2021-10-14 06:18:47 -0400 (Thu, 14 Oct 2021) EndedAt: 2021-10-14 06:19:33 -0400 (Thu, 14 Oct 2021) EllapsedTime: 46.3 seconds RetCode: 0 Status: OK