Package: tidybulk Version: 1.4.0 Command: /Library/Frameworks/R.framework/Versions/Current/Resources/bin/R CMD build --keep-empty-dirs --no-resave-data tidybulk StartedAt: 2021-10-14 15:19:32 -0400 (Thu, 14 Oct 2021) EndedAt: 2021-10-14 15:23:41 -0400 (Thu, 14 Oct 2021) EllapsedTime: 248.6 seconds RetCode: 0 Status: OK PackageFile: tidybulk_1.4.0.tar.gz PackageFileSize: 3.974 MiB