Package: tidybulk Version: 1.4.0 Command: rm -rf tidybulk.buildbin-libdir && mkdir tidybulk.buildbin-libdir && /Users/biocbuild/BBS/utils/build-universal.sh tidybulk_1.4.0.tar.gz /Library/Frameworks/R.framework/Versions/Current/Resources/bin/R tidybulk.buildbin-libdir StartedAt: 2021-10-15 04:13:22 -0400 (Fri, 15 Oct 2021) EndedAt: 2021-10-15 04:14:33 -0400 (Fri, 15 Oct 2021) EllapsedTime: 71.2 seconds RetCode: 0 Status: OK PackageFile: tidybulk_1.4.0.tgz PackageFileSize: 4.235 MiB