Package: tidySingleCellExperiment Version: 1.2.1 Command: C:\Users\biocbuild\bbs-3.13-bioc\R\bin\R.exe CMD check --force-multiarch --install=check:tidySingleCellExperiment.install-out.txt --library=C:\Users\biocbuild\bbs-3.13-bioc\R\library --no-vignettes --timings tidySingleCellExperiment_1.2.1.tar.gz StartedAt: 2021-10-15 06:36:35 -0400 (Fri, 15 Oct 2021) EndedAt: 2021-10-15 06:41:12 -0400 (Fri, 15 Oct 2021) EllapsedTime: 277.5 seconds RetCode: 0 Status: OK CheckDir: tidySingleCellExperiment.Rcheck Warnings: 0