Package: tidySingleCellExperiment Version: 1.2.1 Command: rm -rf tidySingleCellExperiment.buildbin-libdir && mkdir tidySingleCellExperiment.buildbin-libdir && C:\Users\biocbuild\bbs-3.13-bioc\R\bin\R.exe CMD INSTALL --merge-multiarch --build --library=tidySingleCellExperiment.buildbin-libdir tidySingleCellExperiment_1.2.1.tar.gz StartedAt: 2021-10-15 12:10:47 -0400 (Fri, 15 Oct 2021) EndedAt: 2021-10-15 12:12:17 -0400 (Fri, 15 Oct 2021) EllapsedTime: 90.5 seconds RetCode: 0 Status: OK PackageFile: tidySingleCellExperiment_1.2.1.zip PackageFileSize: 1.103 MiB