Package: tLOH Version: 1.0.0 Command: chmod a+r tLOH -R && C:\Users\biocbuild\bbs-3.13-bioc\R\bin\R.exe CMD build --keep-empty-dirs --no-resave-data tLOH StartedAt: 2021-10-14 18:49:09 -0400 (Thu, 14 Oct 2021) EndedAt: 2021-10-14 18:50:28 -0400 (Thu, 14 Oct 2021) EllapsedTime: 79.1 seconds RetCode: 0 Status: OK PackageFile: tLOH_1.0.0.tar.gz PackageFileSize: 1.718 MiB