Package: synergyfinder Version: 3.0.14 Command: /home/biocbuild/bbs-3.13-bioc/R/bin/R CMD check --install=check:synergyfinder.install-out.txt --library=/home/biocbuild/bbs-3.13-bioc/R/library --no-vignettes --timings synergyfinder_3.0.14.tar.gz StartedAt: 2021-10-14 11:49:05 -0400 (Thu, 14 Oct 2021) EndedAt: 2021-10-14 11:50:11 -0400 (Thu, 14 Oct 2021) EllapsedTime: 65.9 seconds RetCode: 0 Status: OK CheckDir: synergyfinder.Rcheck Warnings: 0