Package: switchde Version: 1.18.0 Command: rm -rf switchde.buildbin-libdir && mkdir switchde.buildbin-libdir && /Users/biocbuild/BBS/utils/build-universal.sh switchde_1.18.0.tar.gz /Library/Frameworks/R.framework/Versions/Current/Resources/bin/R switchde.buildbin-libdir StartedAt: 2021-10-15 04:10:29 -0400 (Fri, 15 Oct 2021) EndedAt: 2021-10-15 04:11:50 -0400 (Fri, 15 Oct 2021) EllapsedTime: 81.4 seconds RetCode: 0 Status: OK PackageFile: switchde_1.18.0.tgz PackageFileSize: 1002 KiB