Package: switchBox Version: 1.28.0 Command: /home/biocbuild/bbs-3.13-bioc/R/bin/R CMD check --install=check:switchBox.install-out.txt --library=/home/biocbuild/bbs-3.13-bioc/R/library --no-vignettes --timings switchBox_1.28.0.tar.gz StartedAt: 2021-10-14 11:48:59 -0400 (Thu, 14 Oct 2021) EndedAt: 2021-10-14 11:49:32 -0400 (Thu, 14 Oct 2021) EllapsedTime: 32.8 seconds RetCode: 0 Status: WARNINGS CheckDir: switchBox.Rcheck Warnings: 3