git_url: https://git.bioconductor.org/packages/switchBox git_branch: RELEASE_3_13 git_last_commit: bc4ba73 git_last_commit_date: 2021-05-19 12:07:14 -0400 (Wed, 19 May 2021) Package: switchBox Version: 1.28.0 Maintainer: Bahman Afsari , Luigi Marchionni MaintainerEmail: marchion at jhu.edu>, Wikum Dinalankara