Package: swfdr Version: 1.18.0 Command: /home/biocbuild/bbs-3.13-bioc/R/bin/R CMD INSTALL swfdr StartedAt: 2021-10-14 06:02:25 -0400 (Thu, 14 Oct 2021) EndedAt: 2021-10-14 06:02:37 -0400 (Thu, 14 Oct 2021) EllapsedTime: 11.6 seconds RetCode: 0 Status: OK