Package: swfdr Version: 1.18.0 Command: /home/biocbuild/bbs-3.13-bioc/R/bin/R CMD check --install=check:swfdr.install-out.txt --library=/home/biocbuild/bbs-3.13-bioc/R/library --no-vignettes --timings swfdr_1.18.0.tar.gz StartedAt: 2021-10-14 11:48:57 -0400 (Thu, 14 Oct 2021) EndedAt: 2021-10-14 11:49:18 -0400 (Thu, 14 Oct 2021) EllapsedTime: 21.7 seconds RetCode: 0 Status: OK CheckDir: swfdr.Rcheck Warnings: 0