Package: swfdr Version: 1.18.0 Command: /Library/Frameworks/R.framework/Versions/Current/Resources/bin/R CMD INSTALL swfdr StartedAt: 2021-10-14 08:10:12 -0400 (Thu, 14 Oct 2021) EndedAt: 2021-10-14 08:11:00 -0400 (Thu, 14 Oct 2021) EllapsedTime: 47.9 seconds RetCode: 0 Status: OK