Package: swfdr Version: 1.18.0 Command: /Library/Frameworks/R.framework/Versions/Current/Resources/bin/R CMD build --keep-empty-dirs --no-resave-data swfdr StartedAt: 2021-10-14 15:14:29 -0400 (Thu, 14 Oct 2021) EndedAt: 2021-10-14 15:15:39 -0400 (Thu, 14 Oct 2021) EllapsedTime: 70.5 seconds RetCode: 0 Status: OK PackageFile: swfdr_1.18.0.tar.gz PackageFileSize: 1.184 MiB