Package: swfdr Version: 1.18.0 Command: rm -rf swfdr.buildbin-libdir && mkdir swfdr.buildbin-libdir && /Users/biocbuild/BBS/utils/build-universal.sh swfdr_1.18.0.tar.gz /Library/Frameworks/R.framework/Versions/Current/Resources/bin/R swfdr.buildbin-libdir StartedAt: 2021-10-15 04:10:18 -0400 (Fri, 15 Oct 2021) EndedAt: 2021-10-15 04:11:40 -0400 (Fri, 15 Oct 2021) EllapsedTime: 81.5 seconds RetCode: 0 Status: OK PackageFile: swfdr_1.18.0.tgz PackageFileSize: 1.422 MiB