Package: survcomp Version: 1.42.0 Command: /home/biocbuild/bbs-3.13-bioc/R/bin/R CMD INSTALL survcomp StartedAt: 2021-10-14 06:35:39 -0400 (Thu, 14 Oct 2021) EndedAt: 2021-10-14 06:35:49 -0400 (Thu, 14 Oct 2021) EllapsedTime: 10.0 seconds RetCode: 0 Status: OK