Package: supraHex Version: 1.30.0 Command: /home/biocbuild/bbs-3.13-bioc/R/bin/R CMD INSTALL supraHex StartedAt: 2021-10-14 06:30:24 -0400 (Thu, 14 Oct 2021) EndedAt: 2021-10-14 06:30:32 -0400 (Thu, 14 Oct 2021) EllapsedTime: 7.2 seconds RetCode: 0 Status: OK