Package: supraHex Version: 1.30.0 Command: /home/biocbuild/bbs-3.13-bioc/R/bin/R CMD check --install=check:supraHex.install-out.txt --library=/home/biocbuild/bbs-3.13-bioc/R/library --no-vignettes --timings supraHex_1.30.0.tar.gz StartedAt: 2021-10-14 11:48:10 -0400 (Thu, 14 Oct 2021) EndedAt: 2021-10-14 11:49:12 -0400 (Thu, 14 Oct 2021) EllapsedTime: 61.8 seconds RetCode: 0 Status: OK CheckDir: supraHex.Rcheck Warnings: 0