Package: supraHex Version: 1.30.0 Command: /Library/Frameworks/R.framework/Versions/Current/Resources/bin/R CMD INSTALL supraHex StartedAt: 2021-10-14 09:50:26 -0400 (Thu, 14 Oct 2021) EndedAt: 2021-10-14 09:51:17 -0400 (Thu, 14 Oct 2021) EllapsedTime: 51.3 seconds RetCode: 0 Status: OK