git_url: https://git.bioconductor.org/packages/supraHex git_branch: RELEASE_3_13 git_last_commit: 67ac896 git_last_commit_date: 2021-05-19 12:00:14 -0400 (Wed, 19 May 2021) Package: supraHex Version: 1.30.0 Maintainer: Hai Fang MaintainerEmail: hfang at well.ox.ac.uk