Package: supersigs Version: 1.0.0 Command: chmod a+r supersigs -R && C:\Users\biocbuild\bbs-3.13-bioc\R\bin\R.exe CMD build --keep-empty-dirs --no-resave-data supersigs StartedAt: 2021-10-14 18:37:50 -0400 (Thu, 14 Oct 2021) EndedAt: 2021-10-14 18:39:01 -0400 (Thu, 14 Oct 2021) EllapsedTime: 71.0 seconds RetCode: 0 Status: OK PackageFile: supersigs_1.0.0.tar.gz PackageFileSize: 2.581 MiB