Package: struct Version: 1.4.0 Command: /Library/Frameworks/R.framework/Versions/Current/Resources/bin/R CMD build --keep-empty-dirs --no-resave-data struct StartedAt: 2021-10-14 15:12:19 -0400 (Thu, 14 Oct 2021) EndedAt: 2021-10-14 15:13:22 -0400 (Thu, 14 Oct 2021) EllapsedTime: 63.1 seconds RetCode: 0 Status: OK PackageFile: struct_1.4.0.tar.gz PackageFileSize: 571.2 KiB