Package: strandCheckR Version: 1.10.0 Command: C:\cygwin\bin\curl.exe -O http://155.52.207.165/BBS/3.13/bioc/src/contrib/strandCheckR_1.10.0.tar.gz && rm -rf strandCheckR.buildbin-libdir && mkdir strandCheckR.buildbin-libdir && C:\Users\biocbuild\bbs-3.13-bioc\R\bin\R.exe CMD INSTALL --merge-multiarch --build --library=strandCheckR.buildbin-libdir strandCheckR_1.10.0.tar.gz && C:\Users\biocbuild\bbs-3.13-bioc\R\bin\R.exe CMD INSTALL strandCheckR_1.10.0.zip && rm strandCheckR_1.10.0.tar.gz strandCheckR_1.10.0.zip StartedAt: 2021-10-14 10:41:49 -0400 (Thu, 14 Oct 2021) EndedAt: 2021-10-14 10:42:51 -0400 (Thu, 14 Oct 2021) EllapsedTime: 61.7 seconds RetCode: 0 Status: OK