Package: strandCheckR Version: 1.10.0 Command: /home/biocbuild/bbs-3.13-bioc/R/bin/R CMD check --install=check:strandCheckR.install-out.txt --library=/home/biocbuild/bbs-3.13-bioc/R/library --no-vignettes --timings strandCheckR_1.10.0.tar.gz StartedAt: 2021-10-14 11:46:25 -0400 (Thu, 14 Oct 2021) EndedAt: 2021-10-14 11:50:12 -0400 (Thu, 14 Oct 2021) EllapsedTime: 226.8 seconds RetCode: 0 Status: OK CheckDir: strandCheckR.Rcheck Warnings: 0