Package: strandCheckR Version: 1.10.0 Command: /Library/Frameworks/R.framework/Versions/Current/Resources/bin/R CMD build --keep-empty-dirs --no-resave-data strandCheckR StartedAt: 2021-10-14 15:11:56 -0400 (Thu, 14 Oct 2021) EndedAt: 2021-10-14 15:13:06 -0400 (Thu, 14 Oct 2021) EllapsedTime: 69.9 seconds RetCode: 0 Status: OK PackageFile: strandCheckR_1.10.0.tar.gz PackageFileSize: 1.098 MiB