Package: staRank Version: 1.34.0 Command: /Library/Frameworks/R.framework/Versions/Current/Resources/bin/R CMD build --keep-empty-dirs --no-resave-data staRank StartedAt: 2021-10-14 15:11:20 -0400 (Thu, 14 Oct 2021) EndedAt: 2021-10-14 15:12:07 -0400 (Thu, 14 Oct 2021) EllapsedTime: 47.0 seconds RetCode: 0 Status: OK PackageFile: staRank_1.34.0.tar.gz PackageFileSize: 753.4 KiB