Package: ssrch Version: 1.8.1 Command: chmod a+r ssrch -R && C:\Users\biocbuild\bbs-3.13-bioc\R\bin\R.exe CMD build --keep-empty-dirs --no-resave-data ssrch StartedAt: 2021-10-14 18:34:36 -0400 (Thu, 14 Oct 2021) EndedAt: 2021-10-14 18:35:17 -0400 (Thu, 14 Oct 2021) EllapsedTime: 41.3 seconds RetCode: 0 Status: OK PackageFile: ssrch_1.8.1.tar.gz PackageFileSize: 1.441 MiB