Package: ssrch Version: 1.8.1 Command: /Library/Frameworks/R.framework/Versions/Current/Resources/bin/R CMD INSTALL ssrch StartedAt: 2021-10-14 08:48:37 -0400 (Thu, 14 Oct 2021) EndedAt: 2021-10-14 08:49:36 -0400 (Thu, 14 Oct 2021) EllapsedTime: 58.9 seconds RetCode: 0 Status: OK