git_url: https://git.bioconductor.org/packages/ssrch git_branch: RELEASE_3_13 git_last_commit: 104d1ae git_last_commit_date: 2021-07-28 10:35:44 -0400 (Wed, 28 Jul 2021) Package: ssrch Version: 1.8.1 Maintainer: VJ Carey MaintainerEmail: stvjc at channing.harvard.edu