Package: sscu Version: 2.22.0 Command: /home/biocbuild/bbs-3.13-bioc/R/bin/R CMD INSTALL sscu StartedAt: 2021-10-14 06:08:37 -0400 (Thu, 14 Oct 2021) EndedAt: 2021-10-14 06:08:47 -0400 (Thu, 14 Oct 2021) EllapsedTime: 9.7 seconds RetCode: 0 Status: OK