Package: sscu Version: 2.22.0 Command: /home/biocbuild/bbs-3.13-bioc/R/bin/R CMD build --keep-empty-dirs --no-resave-data sscu StartedAt: 2021-10-14 08:30:39 -0400 (Thu, 14 Oct 2021) EndedAt: 2021-10-14 08:30:53 -0400 (Thu, 14 Oct 2021) EllapsedTime: 14.0 seconds RetCode: 0 Status: OK PackageFile: sscu_2.22.0.tar.gz PackageFileSize: 1.287 MiB