Package: sscore Version: 1.64.0 Command: C:\Users\biocbuild\bbs-3.13-bioc\R\bin\R.exe CMD check --force-multiarch --install=check:sscore.install-out.txt --library=C:\Users\biocbuild\bbs-3.13-bioc\R\library --no-vignettes --timings sscore_1.64.0.tar.gz StartedAt: 2021-10-15 06:12:03 -0400 (Fri, 15 Oct 2021) EndedAt: 2021-10-15 06:12:56 -0400 (Fri, 15 Oct 2021) EllapsedTime: 52.6 seconds RetCode: 0 Status: OK CheckDir: sscore.Rcheck Warnings: 0