git_url: https://git.bioconductor.org/packages/splatter git_branch: RELEASE_3_13 git_last_commit: 62da653 git_last_commit_date: 2021-05-20 04:36:12 -0400 (Thu, 20 May 2021) Package: splatter Version: 1.16.1 Maintainer: Luke Zappia MaintainerEmail: luke at lazappi.id.au