Package: specL Version: 1.26.0 Command: /home/biocbuild/bbs-3.13-bioc/R/bin/R CMD INSTALL specL StartedAt: 2021-10-14 06:05:57 -0400 (Thu, 14 Oct 2021) EndedAt: 2021-10-14 06:06:05 -0400 (Thu, 14 Oct 2021) EllapsedTime: 8.4 seconds RetCode: 0 Status: OK