Package: specL Version: 1.26.0 Command: /home/biocbuild/bbs-3.13-bioc/R/bin/R CMD check --install=check:specL.install-out.txt --library=/home/biocbuild/bbs-3.13-bioc/R/library --no-vignettes --timings specL_1.26.0.tar.gz StartedAt: 2021-10-14 11:43:09 -0400 (Thu, 14 Oct 2021) EndedAt: 2021-10-14 11:43:46 -0400 (Thu, 14 Oct 2021) EllapsedTime: 37.0 seconds RetCode: 0 Status: OK CheckDir: specL.Rcheck Warnings: 0