Package: specL Version: 1.26.0 Command: /home/biocbuild/bbs-3.13-bioc/R/bin/R CMD build --keep-empty-dirs --no-resave-data specL StartedAt: 2021-10-14 08:29:22 -0400 (Thu, 14 Oct 2021) EndedAt: 2021-10-14 08:29:40 -0400 (Thu, 14 Oct 2021) EllapsedTime: 17.7 seconds RetCode: 0 Status: OK PackageFile: specL_1.26.0.tar.gz PackageFileSize: 1.33 MiB