Package: sparseMatrixStats Version: 1.4.2 Command: /Library/Frameworks/R.framework/Versions/Current/Resources/bin/R CMD INSTALL sparseMatrixStats StartedAt: 2021-10-14 08:22:35 -0400 (Thu, 14 Oct 2021) EndedAt: 2021-10-14 08:23:29 -0400 (Thu, 14 Oct 2021) EllapsedTime: 54.0 seconds RetCode: 0 Status: OK