Package: sparseMatrixStats Version: 1.4.2 Command: /Library/Frameworks/R.framework/Versions/Current/Resources/bin/R CMD build --keep-empty-dirs --no-resave-data sparseMatrixStats StartedAt: 2021-10-14 15:05:51 -0400 (Thu, 14 Oct 2021) EndedAt: 2021-10-14 15:06:44 -0400 (Thu, 14 Oct 2021) EllapsedTime: 53.3 seconds RetCode: 0 Status: OK PackageFile: sparseMatrixStats_1.4.2.tar.gz PackageFileSize: 685.2 KiB