Package: snpStats Version: 1.42.0 Command: C:\Users\biocbuild\bbs-3.13-bioc\R\bin\R.exe CMD check --force-multiarch --install=check:snpStats.install-out.txt --library=C:\Users\biocbuild\bbs-3.13-bioc\R\library --no-vignettes --timings snpStats_1.42.0.tar.gz StartedAt: 2021-10-15 05:56:47 -0400 (Fri, 15 Oct 2021) EndedAt: 2021-10-15 05:58:39 -0400 (Fri, 15 Oct 2021) EllapsedTime: 112.1 seconds RetCode: 0 Status: WARNINGS CheckDir: snpStats.Rcheck Warnings: 1