Package: snpStats Version: 1.42.0 Command: /home/biocbuild/bbs-3.13-bioc/R/bin/R CMD INSTALL snpStats StartedAt: 2021-10-14 06:04:32 -0400 (Thu, 14 Oct 2021) EndedAt: 2021-10-14 06:04:54 -0400 (Thu, 14 Oct 2021) EllapsedTime: 22.6 seconds RetCode: 0 Status: OK