Package: snpStats Version: 1.42.0 Command: rm -rf snpStats.buildbin-libdir && mkdir snpStats.buildbin-libdir && /Users/biocbuild/BBS/utils/build-universal.sh snpStats_1.42.0.tar.gz /Library/Frameworks/R.framework/Versions/Current/Resources/bin/R snpStats.buildbin-libdir StartedAt: 2021-10-15 04:03:47 -0400 (Fri, 15 Oct 2021) EndedAt: 2021-10-15 04:04:56 -0400 (Fri, 15 Oct 2021) EllapsedTime: 69.2 seconds RetCode: 0 Status: OK PackageFile: snpStats_1.42.0.tgz PackageFileSize: 7.779 MiB