Package: snifter Version: 1.2.0 Command: /Library/Frameworks/R.framework/Versions/Current/Resources/bin/R CMD build --keep-empty-dirs --no-resave-data snifter StartedAt: 2021-10-14 15:04:10 -0400 (Thu, 14 Oct 2021) EndedAt: 2021-10-14 15:06:50 -0400 (Thu, 14 Oct 2021) EllapsedTime: 159.8 seconds RetCode: 0 Status: OK PackageFile: snifter_1.2.0.tar.gz PackageFileSize: 871.1 KiB