Package: skewr Version: 1.24.0 Command: /home/biocbuild/bbs-3.13-bioc/R/bin/R CMD INSTALL skewr StartedAt: 2021-10-14 06:33:16 -0400 (Thu, 14 Oct 2021) EndedAt: 2021-10-14 06:34:00 -0400 (Thu, 14 Oct 2021) EllapsedTime: 43.6 seconds RetCode: 0 Status: OK