git_url: https://git.bioconductor.org/packages/skewr git_branch: RELEASE_3_13 git_last_commit: 0f47238 git_last_commit_date: 2021-05-19 12:11:23 -0400 (Wed, 19 May 2021) Package: skewr Version: 1.24.0 Maintainer: Ryan Putney MaintainerEmail: ryanputney at gmail.com