git_url: https://git.bioconductor.org/packages/sizepower git_branch: RELEASE_3_13 git_last_commit: babef3f git_last_commit_date: 2021-05-19 11:37:11 -0400 (Wed, 19 May 2021) Package: sizepower Version: 1.62.0 Maintainer: Weiliang Qiu MaintainerEmail: weiliang.qiu at gmail.com