Package: sitePath Version: 1.8.4 Command: chmod a+r sitePath -R && C:\Users\biocbuild\bbs-3.13-bioc\R\bin\R.exe CMD build --keep-empty-dirs --no-resave-data sitePath StartedAt: 2021-10-14 18:22:49 -0400 (Thu, 14 Oct 2021) EndedAt: 2021-10-14 18:24:13 -0400 (Thu, 14 Oct 2021) EllapsedTime: 84.6 seconds RetCode: 0 Status: OK PackageFile: sitePath_1.8.4.tar.gz PackageFileSize: 568.2 KiB