Package: simulatorZ Version: 1.26.0 Command: C:\cygwin\bin\curl.exe -O http://155.52.207.165/BBS/3.13/bioc/src/contrib/simulatorZ_1.26.0.tar.gz && rm -rf simulatorZ.buildbin-libdir && mkdir simulatorZ.buildbin-libdir && C:\Users\biocbuild\bbs-3.13-bioc\R\bin\R.exe CMD INSTALL --merge-multiarch --build --library=simulatorZ.buildbin-libdir simulatorZ_1.26.0.tar.gz && C:\Users\biocbuild\bbs-3.13-bioc\R\bin\R.exe CMD INSTALL simulatorZ_1.26.0.zip && rm simulatorZ_1.26.0.tar.gz simulatorZ_1.26.0.zip StartedAt: 2021-10-14 11:27:17 -0400 (Thu, 14 Oct 2021) EndedAt: 2021-10-14 11:27:19 -0400 (Thu, 14 Oct 2021) EllapsedTime: 1.5 seconds RetCode: 1 Status: ERROR