Package: signatureSearch Version: 1.6.3 Command: /home/biocbuild/bbs-3.13-bioc/R/bin/R CMD INSTALL signatureSearch StartedAt: 2021-10-14 06:28:50 -0400 (Thu, 14 Oct 2021) EndedAt: 2021-10-14 06:30:51 -0400 (Thu, 14 Oct 2021) EllapsedTime: 120.8 seconds RetCode: 0 Status: OK